BEGIN:VCALENDAR
VERSION:2.0
PRODID:-//NEW INNER COURT REVIVAL ASSEMBLY INTERNATIONAL - ECPv6.15.20//NONSGML v1.0//EN
CALSCALE:GREGORIAN
METHOD:PUBLISH
X-WR-CALNAME:NEW INNER COURT REVIVAL ASSEMBLY INTERNATIONAL
X-ORIGINAL-URL:https://www.nicrainternational.org
X-WR-CALDESC:Events for NEW INNER COURT REVIVAL ASSEMBLY INTERNATIONAL
REFRESH-INTERVAL;VALUE=DURATION:PT1H
X-Robots-Tag:noindex
X-PUBLISHED-TTL:PT1H
BEGIN:VTIMEZONE
TZID:UTC
BEGIN:STANDARD
TZOFFSETFROM:+0000
TZOFFSETTO:+0000
TZNAME:UTC
DTSTART:20220101T000000
END:STANDARD
END:VTIMEZONE
BEGIN:VEVENT
DTSTART;VALUE=DATE:20231130
DTEND;VALUE=DATE:20301201
DTSTAMP:20260420T074543
CREATED:20231130T101715Z
LAST-MODIFIED:20231130T101715Z
UID:597-1701302400-1922313599@www.nicrainternational.org
SUMMARY:Online Prayer Program
DESCRIPTION:NEW INNER COURT REVIVAL ASSEMBLE INTERNATIONAL \nTagged It’s My Turn To Testify. \nEvery Monday 7am – 8am \nFacebook Nicra International\nYouTube Nicra International
URL:https://www.nicrainternational.org/event/online-prayer-program/
ATTACH;FMTTYPE=image/jpeg:https://www.nicrainternational.org/wp-content/uploads/2023/11/Online-Programm.jpg
END:VEVENT
END:VCALENDAR